BEGIN:VCALENDAR
VERSION:2.0
PRODID:-//Deutsche Diabetes Föderation e.V. (DDF) - ECPv6.15.18//NONSGML v1.0//EN
CALSCALE:GREGORIAN
METHOD:PUBLISH
X-WR-CALNAME:Deutsche Diabetes Föderation e.V. (DDF)
X-ORIGINAL-URL:https://www.ddf.de.com
X-WR-CALDESC:Veranstaltungen für Deutsche Diabetes Föderation e.V. (DDF)
REFRESH-INTERVAL;VALUE=DURATION:PT1H
X-Robots-Tag:noindex
X-PUBLISHED-TTL:PT1H
BEGIN:VTIMEZONE
TZID:Europe/Berlin
BEGIN:DAYLIGHT
TZOFFSETFROM:+0100
TZOFFSETTO:+0200
TZNAME:CEST
DTSTART:20230326T010000
END:DAYLIGHT
BEGIN:STANDARD
TZOFFSETFROM:+0200
TZOFFSETTO:+0100
TZNAME:CET
DTSTART:20231029T010000
END:STANDARD
BEGIN:DAYLIGHT
TZOFFSETFROM:+0100
TZOFFSETTO:+0200
TZNAME:CEST
DTSTART:20240331T010000
END:DAYLIGHT
BEGIN:STANDARD
TZOFFSETFROM:+0200
TZOFFSETTO:+0100
TZNAME:CET
DTSTART:20241027T010000
END:STANDARD
BEGIN:DAYLIGHT
TZOFFSETFROM:+0100
TZOFFSETTO:+0200
TZNAME:CEST
DTSTART:20250330T010000
END:DAYLIGHT
BEGIN:STANDARD
TZOFFSETFROM:+0200
TZOFFSETTO:+0100
TZNAME:CET
DTSTART:20251026T010000
END:STANDARD
END:VTIMEZONE
BEGIN:VEVENT
DTSTART;TZID=Europe/Berlin:20240720T090000
DTEND;TZID=Europe/Berlin:20240720T160000
DTSTAMP:20260419T164339
CREATED:20240224T225541Z
LAST-MODIFIED:20240605T095643Z
UID:12981-1721466000-1721491200@www.ddf.de.com
SUMMARY:Erlebnistag im EPA-Hochseilgarten | Karlsruhe
DESCRIPTION:Am Samstag\, 20.07.2024\, heißt es wieder: Rauf in die Baumwipfel!\n\n\n\nAuch in diesem Jahr laden wir Kinder mit Diabetes und Ihre Familien zum Erlebnistag in der EPA-Hochseilgarten nach Karlsruhe-Durlach am Samstag\, 20. Juli 2024 ein. \nWorum geht es?\nHier geht es nicht nur ums Klettern\, sondern auch um einen spannenden Tag und den Austausch mit anderen Diabetes-Kindern. \nBei Aufwärmspielen lernt sich die Gruppe kennen und tastet sich anschließend langsam an die unterschiedlichen Höhen des Hochseilgarten heran. Nach dem Kletterturm folgt die Königsdisziplin in den Baumkronen. \nDer Erlebnistag wird von erfahrenen Pädagogen angeleitet\, diabetologische Fachkräfte begleiten bei allen Fragen und Themen rund um den Diabetes. \nAuf dem Boden dürfen die Eltern die Zeit nutzen\, und sich mit anderen Familien und dem Diabetesteam austauschen\, auch einen Vortrag wird es für die Eltern geben. \nDie kleineren Geschwisterkinder werden währenddessen betreut. \nWeitere Informationen & Vormerkung\nDie Anmeldung ist noch nicht eröffnet. Interessierte können sich gerne vormerken lassen (a.towae[at]diabetiker-bw.de) und werden dann per E-Mail informiert\, sobald eine Anmeldung möglich ist. \n– Bitte beachtet\, dass ein Klettern erst ab einer Körpergröße von 1\,30 m möglich ist.\n– Weiter unten findet Ihr Berichte und Bilder von vergangenen Klettertagen. \nSeid dabei\, wir freuen uns auf Euch! \n\nJetzt als Erster teilen:
URL:https://www.ddf.de.com/event/erlebnistag-im-epa-hochseilgarten/
ORGANIZER;CN="Diabetiker Baden-W%C3%BCrttemberg e.V.":MAILTO:info[at]diabetiker-bw.de
END:VEVENT
END:VCALENDAR